BEGIN:VCALENDAR
VERSION:2.0
PRODID:Events Booking
BEGIN:VEVENT
UID:69e9e576073be
SUMMARY:Recycling Done Right - Curbside & Beyond
DESCRIPTION:Learn how to be an expert recycler. Understand why only certain
  items can go into your Blue recycle cart and glass bin. Also learn how to
  properly manage other materials like plastic film/wrap\, batteries\, and 
 hazardous waste which cannot go in the blue recycle cart.&nbsp\;
 This is
  an in-person workshop at Waste Connections of WA (9411 NE 94th&nbsp\;Ave\
 , Vancouver\, WA 98662).
LOCATION:9411 NE 94th Ave\, Vancouver\, WA 98662\, USA
DTSTART:20260521T010000Z
DTEND:20260521T023000Z
DTSTAMP:20260107T040647Z
ORGANIZER;CN=Clark County Composts:MAILTO:info@clarkcountycomposts.org
GEO:45.689329;-122.574502
X-APPLE-STRUCTURED-LOCATION;VALUE=URI;X-ADDRESS=9411 NE 94th Ave\, Vancouve
 r\, WA 98662\, USA;X-APPLE-RADIUS=72;X-TITLE=Waste Connections of Clark Co
 unty:45.689329;-122.574502
END:VEVENT
END:VCALENDAR