BEGIN:VCALENDAR
VERSION:2.0
PRODID:Events Booking
BEGIN:VEVENT
UID:69e5762a1f373
SUMMARY:Lasagna Composting 
DESCRIPTION:Learn how to build and plant a raised bed garden. Turn urban wa
 stes into rich soil. No tilling or turning required and most materials are
  free! Don't worry if your soil is clay\, sand\, grass or weeds - this met
 hod goes right over the top. Optional Field Training TBD to construct a la
 sagna compost garden with experts.&nbsp\;Join via Zoom.
DTSTART:20241024T020000Z
DTEND:20241024T030000Z
DTSTAMP:20211124T042407Z
ORGANIZER;CN=Clark County Composts:MAILTO:info@clarkcountycomposts.org
END:VEVENT
END:VCALENDAR